BEGIN:VCALENDAR
METHOD:PUBLISH
PRODID:-//github.com/rianjs/ical.net//NONSGML ical.net 4.0//EN
VERSION:2.0
X-WR-CALNAME:Dingeman Family Faculty Connection
BEGIN:VEVENT
CREATED:20260421T132316
DESCRIPTION:Dingeman Butterfly Garden\, 8:30-11:30 am
DTEND:20260502T183000Z
DTSTAMP:20260422T124416Z
DTSTART:20260502T151500Z
LAST-MODIFIED:20260421T132316
SEQUENCE:0
STATUS:CONFIRMED
SUMMARY:Gardening Day
TRANSP:TRANSPARENT
UID:145562@ourschoolpages.com
END:VEVENT
END:VCALENDAR
